BEGIN:VCALENDAR
VERSION:2.0
PRODID:-//SV 1913 Walbeck - ECPv6.15.20//NONSGML v1.0//EN
CALSCALE:GREGORIAN
METHOD:PUBLISH
X-WR-CALNAME:SV 1913 Walbeck
X-ORIGINAL-URL:https://svwalbeck.de
X-WR-CALDESC:Veranstaltungen für SV 1913 Walbeck
REFRESH-INTERVAL;VALUE=DURATION:PT1H
X-Robots-Tag:noindex
X-PUBLISHED-TTL:PT1H
BEGIN:VTIMEZONE
TZID:Europe/Berlin
BEGIN:DAYLIGHT
TZOFFSETFROM:+0100
TZOFFSETTO:+0200
TZNAME:CEST
DTSTART:20230326T010000
END:DAYLIGHT
BEGIN:STANDARD
TZOFFSETFROM:+0200
TZOFFSETTO:+0100
TZNAME:CET
DTSTART:20231029T010000
END:STANDARD
BEGIN:DAYLIGHT
TZOFFSETFROM:+0100
TZOFFSETTO:+0200
TZNAME:CEST
DTSTART:20240331T010000
END:DAYLIGHT
BEGIN:STANDARD
TZOFFSETFROM:+0200
TZOFFSETTO:+0100
TZNAME:CET
DTSTART:20241027T010000
END:STANDARD
BEGIN:DAYLIGHT
TZOFFSETFROM:+0100
TZOFFSETTO:+0200
TZNAME:CEST
DTSTART:20250330T010000
END:DAYLIGHT
BEGIN:STANDARD
TZOFFSETFROM:+0200
TZOFFSETTO:+0100
TZNAME:CET
DTSTART:20251026T010000
END:STANDARD
END:VTIMEZONE
BEGIN:VEVENT
DTSTART;TZID=Europe/Berlin:20241220T163000
DTEND;TZID=Europe/Berlin:20241220T193000
DTSTAMP:20260424T061533
CREATED:20241128T211202Z
LAST-MODIFIED:20241128T211251Z
UID:5725-1734712200-1734723000@svwalbeck.de
SUMMARY:TT-Jugendweihnachtsfeier
DESCRIPTION:
URL:https://svwalbeck.de/event/tt-jugendweihnachtsfeier/
END:VEVENT
BEGIN:VEVENT
DTSTART;TZID=Europe/Berlin:20241220T190000
DTEND;TZID=Europe/Berlin:20241220T233000
DTSTAMP:20260424T061533
CREATED:20241206T152120Z
LAST-MODIFIED:20241206T152122Z
UID:5773-1734721200-1734737400@svwalbeck.de
SUMMARY:Weihnachtsfeier SVW Ehrenamt
DESCRIPTION:Friedenseiche
URL:https://svwalbeck.de/event/weihnachtsfeier-svw-ehrenamt/
END:VEVENT
END:VCALENDAR