BEGIN:VCALENDAR
VERSION:2.0
PRODID:-//SV 1913 Walbeck - ECPv6.15.20//NONSGML v1.0//EN
CALSCALE:GREGORIAN
METHOD:PUBLISH
X-WR-CALNAME:SV 1913 Walbeck
X-ORIGINAL-URL:https://svwalbeck.de
X-WR-CALDESC:Veranstaltungen für SV 1913 Walbeck
REFRESH-INTERVAL;VALUE=DURATION:PT1H
X-Robots-Tag:noindex
X-PUBLISHED-TTL:PT1H
BEGIN:VTIMEZONE
TZID:Europe/Berlin
BEGIN:DAYLIGHT
TZOFFSETFROM:+0100
TZOFFSETTO:+0200
TZNAME:CEST
DTSTART:20240331T010000
END:DAYLIGHT
BEGIN:STANDARD
TZOFFSETFROM:+0200
TZOFFSETTO:+0100
TZNAME:CET
DTSTART:20241027T010000
END:STANDARD
BEGIN:DAYLIGHT
TZOFFSETFROM:+0100
TZOFFSETTO:+0200
TZNAME:CEST
DTSTART:20250330T010000
END:DAYLIGHT
BEGIN:STANDARD
TZOFFSETFROM:+0200
TZOFFSETTO:+0100
TZNAME:CET
DTSTART:20251026T010000
END:STANDARD
BEGIN:DAYLIGHT
TZOFFSETFROM:+0100
TZOFFSETTO:+0200
TZNAME:CEST
DTSTART:20260329T010000
END:DAYLIGHT
BEGIN:STANDARD
TZOFFSETFROM:+0200
TZOFFSETTO:+0100
TZNAME:CET
DTSTART:20261025T010000
END:STANDARD
END:VTIMEZONE
BEGIN:VEVENT
DTSTART;TZID=Europe/Berlin:20250316T110000
DTEND;TZID=Europe/Berlin:20250316T170000
DTSTAMP:20260424T034845
CREATED:20250313T101900Z
LAST-MODIFIED:20250313T101908Z
UID:6112-1742122800-1742144400@svwalbeck.de
SUMMARY:Vereinsbus B-Junioren
DESCRIPTION:Auswärtsspiel in Kleve
URL:https://svwalbeck.de/event/vereinsbus-b-junioren-5/
END:VEVENT
BEGIN:VEVENT
DTSTART;TZID=Europe/Berlin:20250316T150000
DTEND;TZID=Europe/Berlin:20250316T180000
DTSTAMP:20260424T034845
CREATED:20250304T204054Z
LAST-MODIFIED:20250304T204408Z
UID:6092-1742137200-1742148000@svwalbeck.de
SUMMARY:TT-Bezirksranglistenturnier der J13 in Walbeck
DESCRIPTION:
URL:https://svwalbeck.de/event/tt-bezirksrangliste-j13/
END:VEVENT
END:VCALENDAR