BEGIN:VCALENDAR
VERSION:2.0
PRODID:-//SV 1913 Walbeck - ECPv6.15.20//NONSGML v1.0//EN
CALSCALE:GREGORIAN
METHOD:PUBLISH
X-WR-CALNAME:SV 1913 Walbeck
X-ORIGINAL-URL:https://svwalbeck.de
X-WR-CALDESC:Veranstaltungen für SV 1913 Walbeck
REFRESH-INTERVAL;VALUE=DURATION:PT1H
X-Robots-Tag:noindex
X-PUBLISHED-TTL:PT1H
BEGIN:VTIMEZONE
TZID:Europe/Berlin
BEGIN:DAYLIGHT
TZOFFSETFROM:+0100
TZOFFSETTO:+0200
TZNAME:CEST
DTSTART:20240331T010000
END:DAYLIGHT
BEGIN:STANDARD
TZOFFSETFROM:+0200
TZOFFSETTO:+0100
TZNAME:CET
DTSTART:20241027T010000
END:STANDARD
BEGIN:DAYLIGHT
TZOFFSETFROM:+0100
TZOFFSETTO:+0200
TZNAME:CEST
DTSTART:20250330T010000
END:DAYLIGHT
BEGIN:STANDARD
TZOFFSETFROM:+0200
TZOFFSETTO:+0100
TZNAME:CET
DTSTART:20251026T010000
END:STANDARD
BEGIN:DAYLIGHT
TZOFFSETFROM:+0100
TZOFFSETTO:+0200
TZNAME:CEST
DTSTART:20260329T010000
END:DAYLIGHT
BEGIN:STANDARD
TZOFFSETFROM:+0200
TZOFFSETTO:+0100
TZNAME:CET
DTSTART:20261025T010000
END:STANDARD
END:VTIMEZONE
BEGIN:VEVENT
DTSTART;TZID=Europe/Berlin:20250426T103000
DTEND;TZID=Europe/Berlin:20250426T160000
DTSTAMP:20260424T022154
CREATED:20250425T210020Z
LAST-MODIFIED:20250425T210022Z
UID:6205-1745663400-1745683200@svwalbeck.de
SUMMARY:Vereinsbus C-Junioren
DESCRIPTION:Auswärtsspiel in Kaldenkirchen
URL:https://svwalbeck.de/event/vereinsbus-c-junioren-4/
END:VEVENT
BEGIN:VEVENT
DTSTART;TZID=Europe/Berlin:20250426T180000
DTEND;TZID=Europe/Berlin:20250426T230000
DTSTAMP:20260424T022154
CREATED:20250425T210118Z
LAST-MODIFIED:20250425T210120Z
UID:6207-1745690400-1745708400@svwalbeck.de
SUMMARY:Vereinsbus 1. Herren
DESCRIPTION:Auswärtsspiel in Weeze
URL:https://svwalbeck.de/event/vereinsbus-1-herren-3/
END:VEVENT
END:VCALENDAR