BEGIN:VCALENDAR
VERSION:2.0
PRODID:-//SV 1913 Walbeck - ECPv6.15.20//NONSGML v1.0//EN
CALSCALE:GREGORIAN
METHOD:PUBLISH
X-ORIGINAL-URL:https://svwalbeck.de
X-WR-CALDESC:Veranstaltungen für SV 1913 Walbeck
REFRESH-INTERVAL;VALUE=DURATION:PT1H
X-Robots-Tag:noindex
X-PUBLISHED-TTL:PT1H
BEGIN:VTIMEZONE
TZID:Europe/Berlin
BEGIN:DAYLIGHT
TZOFFSETFROM:+0100
TZOFFSETTO:+0200
TZNAME:CEST
DTSTART:20240331T010000
END:DAYLIGHT
BEGIN:STANDARD
TZOFFSETFROM:+0200
TZOFFSETTO:+0100
TZNAME:CET
DTSTART:20241027T010000
END:STANDARD
BEGIN:DAYLIGHT
TZOFFSETFROM:+0100
TZOFFSETTO:+0200
TZNAME:CEST
DTSTART:20250330T010000
END:DAYLIGHT
BEGIN:STANDARD
TZOFFSETFROM:+0200
TZOFFSETTO:+0100
TZNAME:CET
DTSTART:20251026T010000
END:STANDARD
BEGIN:DAYLIGHT
TZOFFSETFROM:+0100
TZOFFSETTO:+0200
TZNAME:CEST
DTSTART:20260329T010000
END:DAYLIGHT
BEGIN:STANDARD
TZOFFSETFROM:+0200
TZOFFSETTO:+0100
TZNAME:CET
DTSTART:20261025T010000
END:STANDARD
END:VTIMEZONE
BEGIN:VEVENT
DTSTART;TZID=Europe/Berlin:20250201T080000
DTEND;TZID=Europe/Berlin:20250201T170000
DTSTAMP:20260424T021832
CREATED:20250119T101929Z
LAST-MODIFIED:20250119T101931Z
UID:5856-1738396800-1738429200@svwalbeck.de
SUMMARY:Vereinsbus B-Jugend
DESCRIPTION:Futsal Niederrheinpokal in Langenfeld
URL:https://svwalbeck.de/event/vereinsbus-b-jugend/
END:VEVENT
BEGIN:VEVENT
DTSTART;TZID=Europe/Berlin:20250202T100000
DTEND;TZID=Europe/Berlin:20250202T170000
DTSTAMP:20260424T021832
CREATED:20250129T072217Z
LAST-MODIFIED:20250129T072223Z
UID:5908-1738490400-1738515600@svwalbeck.de
SUMMARY:Vereinbus Damen 2
DESCRIPTION:Auswärtsspiel in Dinslaken
URL:https://svwalbeck.de/event/vereinbus-damen-2/
END:VEVENT
BEGIN:VEVENT
DTSTART;TZID=Europe/Berlin:20250208T080000
DTEND;TZID=Europe/Berlin:20250208T170000
DTSTAMP:20260424T021832
CREATED:20241213T130408Z
LAST-MODIFIED:20241213T130410Z
UID:5784-1739001600-1739034000@svwalbeck.de
SUMMARY:Vereinsbus U13 Juniorinnen
DESCRIPTION:Auswärtsspiel in Eichlinghofen
URL:https://svwalbeck.de/event/vereinsbus-u13-juniorinnen/
END:VEVENT
BEGIN:VEVENT
DTSTART;TZID=Europe/Berlin:20250209T100000
DTEND;TZID=Europe/Berlin:20250209T170000
DTSTAMP:20260424T021832
CREATED:20250207T135007Z
LAST-MODIFIED:20250207T135014Z
UID:5921-1739095200-1739120400@svwalbeck.de
SUMMARY:Vereinsbus 2. Damen
DESCRIPTION:Auswärtsspiel in Budberg
URL:https://svwalbeck.de/event/vereinsbus-2-damen/
END:VEVENT
BEGIN:VEVENT
DTSTART;TZID=Europe/Berlin:20250216T080000
DTEND;TZID=Europe/Berlin:20250216T143000
DTSTAMP:20260424T021832
CREATED:20240924T111449Z
LAST-MODIFIED:20240924T111837Z
UID:5559-1739692800-1739716200@svwalbeck.de
SUMMARY:Vereinsbus B-Junioren
DESCRIPTION:Spiel in Rindern
URL:https://svwalbeck.de/event/vereinsbus-b-junioren/
END:VEVENT
BEGIN:VEVENT
DTSTART;TZID=Europe/Berlin:20250216T150000
DTEND;TZID=Europe/Berlin:20250216T180000
DTSTAMP:20260424T021832
CREATED:20250208T053432Z
LAST-MODIFIED:20250208T053624Z
UID:5927-1739718000-1739728800@svwalbeck.de
SUMMARY:TT-Bezirksranglistenturnier der J13 in Walbeck
DESCRIPTION:
URL:https://svwalbeck.de/event/tt-bezirksranglistenturnier-der-j13/
END:VEVENT
BEGIN:VEVENT
DTSTART;TZID=Europe/Berlin:20250222T140000
DTEND;TZID=Europe/Berlin:20250222T200000
DTSTAMP:20260424T021832
CREATED:20250121T210006Z
LAST-MODIFIED:20250210T154615Z
UID:5883-1740232800-1740254400@svwalbeck.de
SUMMARY:Pub C-Junioren
DESCRIPTION:Mannschaftstag
URL:https://svwalbeck.de/event/pub-c-junioren/
END:VEVENT
END:VCALENDAR