BEGIN:VCALENDAR
VERSION:2.0
PRODID:-//SV 1913 Walbeck - ECPv6.15.20//NONSGML v1.0//EN
CALSCALE:GREGORIAN
METHOD:PUBLISH
X-ORIGINAL-URL:https://svwalbeck.de
X-WR-CALDESC:Veranstaltungen für SV 1913 Walbeck
REFRESH-INTERVAL;VALUE=DURATION:PT1H
X-Robots-Tag:noindex
X-PUBLISHED-TTL:PT1H
BEGIN:VTIMEZONE
TZID:Europe/Berlin
BEGIN:DAYLIGHT
TZOFFSETFROM:+0100
TZOFFSETTO:+0200
TZNAME:CEST
DTSTART:20240331T010000
END:DAYLIGHT
BEGIN:STANDARD
TZOFFSETFROM:+0200
TZOFFSETTO:+0100
TZNAME:CET
DTSTART:20241027T010000
END:STANDARD
BEGIN:DAYLIGHT
TZOFFSETFROM:+0100
TZOFFSETTO:+0200
TZNAME:CEST
DTSTART:20250330T010000
END:DAYLIGHT
BEGIN:STANDARD
TZOFFSETFROM:+0200
TZOFFSETTO:+0100
TZNAME:CET
DTSTART:20251026T010000
END:STANDARD
BEGIN:DAYLIGHT
TZOFFSETFROM:+0100
TZOFFSETTO:+0200
TZNAME:CEST
DTSTART:20260329T010000
END:DAYLIGHT
BEGIN:STANDARD
TZOFFSETFROM:+0200
TZOFFSETTO:+0100
TZNAME:CET
DTSTART:20261025T010000
END:STANDARD
END:VTIMEZONE
BEGIN:VEVENT
DTSTART;TZID=Europe/Berlin:20250501T080000
DTEND;TZID=Europe/Berlin:20250501T200000
DTSTAMP:20260423T230451
CREATED:20250425T082413Z
LAST-MODIFIED:20250425T082415Z
UID:6201-1746086400-1746129600@svwalbeck.de
SUMMARY:Vereinsbus 2. Damen
DESCRIPTION:Fortbildung Köln
URL:https://svwalbeck.de/event/vereinsbus-2-damen-4/
END:VEVENT
BEGIN:VEVENT
DTSTART;TZID=Europe/Berlin:20250502T170000
DTEND;TZID=Europe/Berlin:20250502T230000
DTSTAMP:20260423T230451
CREATED:20250425T082531Z
LAST-MODIFIED:20250425T082533Z
UID:6203-1746205200-1746226800@svwalbeck.de
SUMMARY:Vereinsbus A-Junioren
DESCRIPTION:Auswärtsspiel in Materborn
URL:https://svwalbeck.de/event/vereinsbus-a-junioren-3/
END:VEVENT
BEGIN:VEVENT
DTSTART;TZID=Europe/Berlin:20250504T080000
DTEND;TZID=Europe/Berlin:20250504T160000
DTSTAMP:20260423T230451
CREATED:20250425T210300Z
LAST-MODIFIED:20250425T210303Z
UID:6209-1746345600-1746374400@svwalbeck.de
SUMMARY:Vereinsbus Damen II
DESCRIPTION:Auswärtsspiel in Hemden
URL:https://svwalbeck.de/event/vereinsbus-damen-ii-2/
END:VEVENT
BEGIN:VEVENT
DTSTART;TZID=Europe/Berlin:20250511T103000
DTEND;TZID=Europe/Berlin:20250511T170000
DTSTAMP:20260423T230451
CREATED:20250505T094223Z
LAST-MODIFIED:20250505T094225Z
UID:6224-1746959400-1746982800@svwalbeck.de
SUMMARY:Vereinsbus 1. Damen
DESCRIPTION:Auswärtsspiel in Moers
URL:https://svwalbeck.de/event/vereinsbus-1-damen-5/
END:VEVENT
BEGIN:VEVENT
DTSTART;TZID=Europe/Berlin:20250517T143000
DTEND;TZID=Europe/Berlin:20250517T220000
DTSTAMP:20260423T230451
CREATED:20250304T144145Z
LAST-MODIFIED:20250304T144146Z
UID:6089-1747492200-1747519200@svwalbeck.de
SUMMARY:Vereinsbus TT-Abteilung J Team
DESCRIPTION:Ausflug J Team
URL:https://svwalbeck.de/event/vereinsbus-tt-abteilung-j-team/
END:VEVENT
BEGIN:VEVENT
DTSTART;TZID=Europe/Berlin:20250518T130000
DTEND;TZID=Europe/Berlin:20250518T190000
DTSTAMP:20260423T230451
CREATED:20250505T094323Z
LAST-MODIFIED:20250505T094324Z
UID:6226-1747573200-1747594800@svwalbeck.de
SUMMARY:Vereinsbus 1. Damen
DESCRIPTION:Auswärtsspiel in Kaarst
URL:https://svwalbeck.de/event/vereinsbus-1-damen-6/
END:VEVENT
BEGIN:VEVENT
DTSTART;TZID=Europe/Berlin:20250525T080000
DTEND;TZID=Europe/Berlin:20250525T143000
DTSTAMP:20260423T230451
CREATED:20240924T111606Z
LAST-MODIFIED:20240924T111721Z
UID:5561-1748160000-1748183400@svwalbeck.de
SUMMARY:Vereinsbus B-Junioren
DESCRIPTION:Spiel in Reichswalde
URL:https://svwalbeck.de/event/vereinsbus-b-junioren-2/
END:VEVENT
BEGIN:VEVENT
DTSTART;TZID=Europe/Berlin:20250528T180000
DTEND;TZID=Europe/Berlin:20250528T230000
DTSTAMP:20260423T230451
CREATED:20250522T101817Z
LAST-MODIFIED:20250522T101819Z
UID:6247-1748455200-1748473200@svwalbeck.de
SUMMARY:Vereinsbus A-Junioren
DESCRIPTION:Auswärtsspiel in Rindern
URL:https://svwalbeck.de/event/vereinsbus-a-junioren-4/
END:VEVENT
BEGIN:VEVENT
DTSTART;TZID=Europe/Berlin:20250531T120000
DTEND;TZID=Europe/Berlin:20250531T180000
DTSTAMP:20260423T230451
CREATED:20250526T130332Z
LAST-MODIFIED:20250526T130333Z
UID:6279-1748692800-1748714400@svwalbeck.de
SUMMARY:Vereinsbus U13
DESCRIPTION:Auswärtsspiel in Süchteln
URL:https://svwalbeck.de/event/vereinsbus-u13/
END:VEVENT
BEGIN:VEVENT
DTSTART;TZID=Europe/Berlin:20250531T170000
DTEND;TZID=Europe/Berlin:20250531T230000
DTSTAMP:20260423T230451
CREATED:20250526T202853Z
LAST-MODIFIED:20250526T202855Z
UID:6294-1748710800-1748732400@svwalbeck.de
SUMMARY:Pub Saisonabschluss
DESCRIPTION:C-Junioren
URL:https://svwalbeck.de/event/pub-saisonabschluss/
END:VEVENT
END:VCALENDAR