BEGIN:VCALENDAR
VERSION:2.0
PRODID:-//SV 1913 Walbeck - ECPv6.15.20//NONSGML v1.0//EN
CALSCALE:GREGORIAN
METHOD:PUBLISH
X-WR-CALNAME:SV 1913 Walbeck
X-ORIGINAL-URL:https://svwalbeck.de
X-WR-CALDESC:Veranstaltungen für SV 1913 Walbeck
REFRESH-INTERVAL;VALUE=DURATION:PT1H
X-Robots-Tag:noindex
X-PUBLISHED-TTL:PT1H
BEGIN:VTIMEZONE
TZID:Europe/Berlin
BEGIN:DAYLIGHT
TZOFFSETFROM:+0100
TZOFFSETTO:+0200
TZNAME:CEST
DTSTART:20240331T010000
END:DAYLIGHT
BEGIN:STANDARD
TZOFFSETFROM:+0200
TZOFFSETTO:+0100
TZNAME:CET
DTSTART:20241027T010000
END:STANDARD
BEGIN:DAYLIGHT
TZOFFSETFROM:+0100
TZOFFSETTO:+0200
TZNAME:CEST
DTSTART:20250330T010000
END:DAYLIGHT
BEGIN:STANDARD
TZOFFSETFROM:+0200
TZOFFSETTO:+0100
TZNAME:CET
DTSTART:20251026T010000
END:STANDARD
BEGIN:DAYLIGHT
TZOFFSETFROM:+0100
TZOFFSETTO:+0200
TZNAME:CEST
DTSTART:20260329T010000
END:DAYLIGHT
BEGIN:STANDARD
TZOFFSETFROM:+0200
TZOFFSETTO:+0100
TZNAME:CET
DTSTART:20261025T010000
END:STANDARD
END:VTIMEZONE
BEGIN:VEVENT
DTSTART;TZID=Europe/Berlin:20250606T170000
DTEND;TZID=Europe/Berlin:20250606T233000
DTSTAMP:20260423T201429
CREATED:20250526T130124Z
LAST-MODIFIED:20250526T130125Z
UID:6277-1749229200-1749252600@svwalbeck.de
SUMMARY:Pub Mannschaftsabend
DESCRIPTION:B-Junioren
URL:https://svwalbeck.de/event/pub-mannschaftsabend/
END:VEVENT
BEGIN:VEVENT
DTSTART;TZID=Europe/Berlin:20250608T080000
DTEND;TZID=Europe/Berlin:20250608T160000
DTSTAMP:20260423T201429
CREATED:20250522T101950Z
LAST-MODIFIED:20250522T102136Z
UID:6249-1749369600-1749398400@svwalbeck.de
SUMMARY:Vereinsbus B-Junioren
DESCRIPTION:Mannschaftsauflug B.Mönchengladbach
URL:https://svwalbeck.de/event/vereinsbus-b-junioren-6/
END:VEVENT
BEGIN:VEVENT
DTSTART;TZID=Europe/Berlin:20250615T160000
DTEND;TZID=Europe/Berlin:20250615T190000
DTSTAMP:20260423T201429
CREATED:20250531T113647Z
LAST-MODIFIED:20250531T113649Z
UID:6314-1750003200-1750014000@svwalbeck.de
SUMMARY:Saisonabschluss F2/3
DESCRIPTION:Kunstrasen komplett
URL:https://svwalbeck.de/event/saisonabschluss-f2-3/
END:VEVENT
BEGIN:VEVENT
DTSTART;TZID=Europe/Berlin:20250622T090000
DTEND;TZID=Europe/Berlin:20250622T130000
DTSTAMP:20260423T201429
CREATED:20250526T130459Z
LAST-MODIFIED:20250526T130500Z
UID:6281-1750582800-1750597200@svwalbeck.de
SUMMARY:Messfeier am Sportplatz
DESCRIPTION:
URL:https://svwalbeck.de/event/messfeier-am-sportplatz/
END:VEVENT
BEGIN:VEVENT
DTSTART;TZID=Europe/Berlin:20250628T000000
DTEND;TZID=Europe/Berlin:20250628T235959
DTSTAMP:20260423T201429
CREATED:20250526T130609Z
LAST-MODIFIED:20250526T203041Z
UID:6283-1751068800-1751155199@svwalbeck.de
SUMMARY:Pub Mannschaftsabend
DESCRIPTION:A-Junioren
URL:https://svwalbeck.de/event/pub-mannschaftsabend-2/
END:VEVENT
BEGIN:VEVENT
DTSTART;TZID=Europe/Berlin:20250628T080000
DTEND;TZID=Europe/Berlin:20250629T200000
DTSTAMP:20260423T201429
CREATED:20250526T203306Z
LAST-MODIFIED:20250526T203307Z
UID:6297-1751097600-1751227200@svwalbeck.de
SUMMARY:Vereinsbus U13
DESCRIPTION:Mannschaftsfahrt Osnabrück
URL:https://svwalbeck.de/event/vereinsbus-u13-2/
END:VEVENT
END:VCALENDAR