BEGIN:VCALENDAR
VERSION:2.0
PRODID:-//SV 1913 Walbeck - ECPv6.15.20//NONSGML v1.0//EN
CALSCALE:GREGORIAN
METHOD:PUBLISH
X-ORIGINAL-URL:https://svwalbeck.de
X-WR-CALDESC:Veranstaltungen für SV 1913 Walbeck
REFRESH-INTERVAL;VALUE=DURATION:PT1H
X-Robots-Tag:noindex
X-PUBLISHED-TTL:PT1H
BEGIN:VTIMEZONE
TZID:Europe/Berlin
BEGIN:DAYLIGHT
TZOFFSETFROM:+0100
TZOFFSETTO:+0200
TZNAME:CEST
DTSTART:20240331T010000
END:DAYLIGHT
BEGIN:STANDARD
TZOFFSETFROM:+0200
TZOFFSETTO:+0100
TZNAME:CET
DTSTART:20241027T010000
END:STANDARD
BEGIN:DAYLIGHT
TZOFFSETFROM:+0100
TZOFFSETTO:+0200
TZNAME:CEST
DTSTART:20250330T010000
END:DAYLIGHT
BEGIN:STANDARD
TZOFFSETFROM:+0200
TZOFFSETTO:+0100
TZNAME:CET
DTSTART:20251026T010000
END:STANDARD
BEGIN:DAYLIGHT
TZOFFSETFROM:+0100
TZOFFSETTO:+0200
TZNAME:CEST
DTSTART:20260329T010000
END:DAYLIGHT
BEGIN:STANDARD
TZOFFSETFROM:+0200
TZOFFSETTO:+0100
TZNAME:CET
DTSTART:20261025T010000
END:STANDARD
END:VTIMEZONE
BEGIN:VEVENT
DTSTART;TZID=Europe/Berlin:20250701T160000
DTEND;TZID=Europe/Berlin:20250701T220000
DTSTAMP:20260423T185916
CREATED:20250624T060604Z
LAST-MODIFIED:20250624T060605Z
UID:6352-1751385600-1751407200@svwalbeck.de
SUMMARY:Vereinsbus B-Jnioren
DESCRIPTION:Auswärtsspiel
URL:https://svwalbeck.de/event/vereinsbus-b-jnioren/
END:VEVENT
BEGIN:VEVENT
DTSTART;TZID=Europe/Berlin:20250706T103000
DTEND;TZID=Europe/Berlin:20250706T170000
DTSTAMP:20260423T185916
CREATED:20250625T183352Z
LAST-MODIFIED:20250625T183353Z
UID:6354-1751797800-1751821200@svwalbeck.de
SUMMARY:Vereinsbus U 17 Juniorinnen
DESCRIPTION:Auswärtsspiel in Essen
URL:https://svwalbeck.de/event/vereinsbus-u-17-juniorinnen/
END:VEVENT
BEGIN:VEVENT
DTSTART;TZID=Europe/Berlin:20250711T180000
DTEND;TZID=Europe/Berlin:20250711T220000
DTSTAMP:20260423T185916
CREATED:20250701T091529Z
LAST-MODIFIED:20250701T091531Z
UID:6356-1752256800-1752271200@svwalbeck.de
SUMMARY:Pub inkl. Grill 2. Damen
DESCRIPTION:Trainingsauftakt
URL:https://svwalbeck.de/event/pub-inkl-grill-2-damen/
END:VEVENT
BEGIN:VEVENT
DTSTART;TZID=Europe/Berlin:20250726T080000
DTEND;TZID=Europe/Berlin:20250726T233000
DTSTAMP:20260423T185916
CREATED:20241121T184805Z
LAST-MODIFIED:20241121T184806Z
UID:5717-1753516800-1753572600@svwalbeck.de
SUMMARY:Vogelschießen Altschützen
DESCRIPTION:Sportplatz Vogelschießen\, Aufbau Freitags\, Abbau Sonntags
URL:https://svwalbeck.de/event/vogelschiessen-altschuetzen/
END:VEVENT
BEGIN:VEVENT
DTSTART;TZID=Europe/Berlin:20250727T100000
DTEND;TZID=Europe/Berlin:20250727T170000
DTSTAMP:20260423T185916
CREATED:20250704T085425Z
LAST-MODIFIED:20250704T085427Z
UID:6359-1753610400-1753635600@svwalbeck.de
SUMMARY:Vereinsbus 1. Damen
DESCRIPTION:Spiel in Velbert
URL:https://svwalbeck.de/event/vereinsbus-1-damen-7/
END:VEVENT
END:VCALENDAR