BEGIN:VCALENDAR
VERSION:2.0
PRODID:-//SV 1913 Walbeck - ECPv6.15.20//NONSGML v1.0//EN
CALSCALE:GREGORIAN
METHOD:PUBLISH
X-ORIGINAL-URL:https://svwalbeck.de
X-WR-CALDESC:Veranstaltungen für SV 1913 Walbeck
REFRESH-INTERVAL;VALUE=DURATION:PT1H
X-Robots-Tag:noindex
X-PUBLISHED-TTL:PT1H
BEGIN:VTIMEZONE
TZID:Europe/Berlin
BEGIN:DAYLIGHT
TZOFFSETFROM:+0100
TZOFFSETTO:+0200
TZNAME:CEST
DTSTART:20240331T010000
END:DAYLIGHT
BEGIN:STANDARD
TZOFFSETFROM:+0200
TZOFFSETTO:+0100
TZNAME:CET
DTSTART:20241027T010000
END:STANDARD
BEGIN:DAYLIGHT
TZOFFSETFROM:+0100
TZOFFSETTO:+0200
TZNAME:CEST
DTSTART:20250330T010000
END:DAYLIGHT
BEGIN:STANDARD
TZOFFSETFROM:+0200
TZOFFSETTO:+0100
TZNAME:CET
DTSTART:20251026T010000
END:STANDARD
BEGIN:DAYLIGHT
TZOFFSETFROM:+0100
TZOFFSETTO:+0200
TZNAME:CEST
DTSTART:20260329T010000
END:DAYLIGHT
BEGIN:STANDARD
TZOFFSETFROM:+0200
TZOFFSETTO:+0100
TZNAME:CET
DTSTART:20261025T010000
END:STANDARD
END:VTIMEZONE
BEGIN:VEVENT
DTSTART;TZID=Europe/Berlin:20250801T140000
DTEND;TZID=Europe/Berlin:20250801T170000
DTSTAMP:20260423T174200
CREATED:20241206T151922Z
LAST-MODIFIED:20250526T130750Z
UID:5771-1754056800-1754067600@svwalbeck.de
SUMMARY:Kunstrasen Germania Kaiserau
DESCRIPTION:Gruppe aus Kaiserau Kunstrasen komplett
URL:https://svwalbeck.de/event/jugendplatz-germania-kaiserau/
END:VEVENT
BEGIN:VEVENT
DTSTART;TZID=Europe/Berlin:20250806T170000
DTEND;TZID=Europe/Berlin:20250806T233000
DTSTAMP:20260423T174200
CREATED:20250704T085526Z
LAST-MODIFIED:20250704T085528Z
UID:6361-1754499600-1754523000@svwalbeck.de
SUMMARY:Vereinsbus 1. Damen
DESCRIPTION:Spiel in Uerdingen
URL:https://svwalbeck.de/event/vereinsbus-1-damen-8/
END:VEVENT
BEGIN:VEVENT
DTSTART;TZID=Europe/Berlin:20250808T190000
DTEND;TZID=Europe/Berlin:20250808T233000
DTSTAMP:20260423T174200
CREATED:20250712T171122Z
LAST-MODIFIED:20250712T171124Z
UID:6375-1754679600-1754695800@svwalbeck.de
SUMMARY:Pub 1.Herren
DESCRIPTION:Mannschaftsabend
URL:https://svwalbeck.de/event/pub-1-herren/
END:VEVENT
BEGIN:VEVENT
DTSTART;TZID=Europe/Berlin:20250809T080000
DTEND;TZID=Europe/Berlin:20250809T140000
DTSTAMP:20260423T174200
CREATED:20250704T085857Z
LAST-MODIFIED:20250704T085859Z
UID:6367-1754726400-1754748000@svwalbeck.de
SUMMARY:Pub 1. Damen
DESCRIPTION:Trainingslager 1. Damen
URL:https://svwalbeck.de/event/pub-1-damen/
END:VEVENT
BEGIN:VEVENT
DTSTART;TZID=Europe/Berlin:20250809T120000
DTEND;TZID=Europe/Berlin:20250809T190000
DTSTAMP:20260423T174200
CREATED:20250704T085625Z
LAST-MODIFIED:20250704T085627Z
UID:6363-1754740800-1754766000@svwalbeck.de
SUMMARY:Vereinsbus 1. Damen
DESCRIPTION:Spiel in Budberg
URL:https://svwalbeck.de/event/vereinsbus-1-damen-9/
END:VEVENT
BEGIN:VEVENT
DTSTART;TZID=Europe/Berlin:20250816T100000
DTEND;TZID=Europe/Berlin:20250816T170000
DTSTAMP:20260423T174200
CREATED:20250704T085728Z
LAST-MODIFIED:20250704T085729Z
UID:6365-1755338400-1755363600@svwalbeck.de
SUMMARY:Vereinsbus 1. Damen
DESCRIPTION:Spiel in Tönisberg
URL:https://svwalbeck.de/event/vereinsbus-1-damen-10/
END:VEVENT
BEGIN:VEVENT
DTSTART;TZID=Europe/Berlin:20250824T100000
DTEND;TZID=Europe/Berlin:20250824T190000
DTSTAMP:20260423T174200
CREATED:20250723T123949Z
LAST-MODIFIED:20250723T123950Z
UID:6385-1756029600-1756062000@svwalbeck.de
SUMMARY:Vereinsbus 1. Damen
DESCRIPTION:Pokalspiel in Mettmann
URL:https://svwalbeck.de/event/vereinsbus-1-damen-11/
END:VEVENT
BEGIN:VEVENT
DTSTART;TZID=Europe/Berlin:20250827T180000
DTEND;TZID=Europe/Berlin:20250827T200000
DTSTAMP:20260423T174200
CREATED:20250807T200007Z
LAST-MODIFIED:20250807T200014Z
UID:6393-1756317600-1756324800@svwalbeck.de
SUMMARY:Feierstunde zur Benennung der Turnhalle in "Hermann-Deckers-Sporthalle"
DESCRIPTION:
URL:https://svwalbeck.de/event/feierstunde-zur-benennung-der-turnhalle-in-hermann-deckers-sporthalle/
END:VEVENT
BEGIN:VEVENT
DTSTART;TZID=Europe/Berlin:20250831T120000
DTEND;TZID=Europe/Berlin:20250831T200000
DTSTAMP:20260423T174200
CREATED:20250825T130251Z
LAST-MODIFIED:20250825T130253Z
UID:6429-1756641600-1756670400@svwalbeck.de
SUMMARY:Vereinsbus 1. Damen
DESCRIPTION:Spiel in Heißen
URL:https://svwalbeck.de/event/vereinsbus-1-damen-12/
END:VEVENT
END:VCALENDAR