BEGIN:VCALENDAR
VERSION:2.0
PRODID:-//SV 1913 Walbeck - ECPv6.15.20//NONSGML v1.0//EN
CALSCALE:GREGORIAN
METHOD:PUBLISH
X-WR-CALNAME:SV 1913 Walbeck
X-ORIGINAL-URL:https://svwalbeck.de
X-WR-CALDESC:Veranstaltungen für SV 1913 Walbeck
REFRESH-INTERVAL;VALUE=DURATION:PT1H
X-Robots-Tag:noindex
X-PUBLISHED-TTL:PT1H
BEGIN:VTIMEZONE
TZID:Europe/Berlin
BEGIN:DAYLIGHT
TZOFFSETFROM:+0100
TZOFFSETTO:+0200
TZNAME:CEST
DTSTART:20240331T010000
END:DAYLIGHT
BEGIN:STANDARD
TZOFFSETFROM:+0200
TZOFFSETTO:+0100
TZNAME:CET
DTSTART:20241027T010000
END:STANDARD
BEGIN:DAYLIGHT
TZOFFSETFROM:+0100
TZOFFSETTO:+0200
TZNAME:CEST
DTSTART:20250330T010000
END:DAYLIGHT
BEGIN:STANDARD
TZOFFSETFROM:+0200
TZOFFSETTO:+0100
TZNAME:CET
DTSTART:20251026T010000
END:STANDARD
BEGIN:DAYLIGHT
TZOFFSETFROM:+0100
TZOFFSETTO:+0200
TZNAME:CEST
DTSTART:20260329T010000
END:DAYLIGHT
BEGIN:STANDARD
TZOFFSETFROM:+0200
TZOFFSETTO:+0100
TZNAME:CET
DTSTART:20261025T010000
END:STANDARD
END:VTIMEZONE
BEGIN:VEVENT
DTSTART;TZID=Europe/Berlin:20250906T100000
DTEND;TZID=Europe/Berlin:20250906T170000
DTSTAMP:20260423T162114
CREATED:20250901T092613Z
LAST-MODIFIED:20250901T092615Z
UID:6454-1757152800-1757178000@svwalbeck.de
SUMMARY:Vereinsbus U17
DESCRIPTION:Auswärtsspiel HoHa
URL:https://svwalbeck.de/event/vereinsbus-u17-3/
END:VEVENT
BEGIN:VEVENT
DTSTART;TZID=Europe/Berlin:20250914T080000
DTEND;TZID=Europe/Berlin:20250914T200000
DTSTAMP:20260423T162114
CREATED:20250825T130414Z
LAST-MODIFIED:20250825T130416Z
UID:6431-1757836800-1757880000@svwalbeck.de
SUMMARY:Vereinsbus Damen (1/2)
DESCRIPTION:Auswärtsspiel
URL:https://svwalbeck.de/event/vereinsbus-damen-1-2/
END:VEVENT
BEGIN:VEVENT
DTSTART;TZID=Europe/Berlin:20250927T120000
DTEND;TZID=Europe/Berlin:20250927T200000
DTSTAMP:20260423T162114
CREATED:20250923T190034Z
LAST-MODIFIED:20250923T190036Z
UID:6534-1758974400-1759003200@svwalbeck.de
SUMMARY:Vereinsbus U15-Juniorinnen
DESCRIPTION:Auswärtsspiel in Warbeyen
URL:https://svwalbeck.de/event/vereinsbus-u15-juniorinnen/
END:VEVENT
BEGIN:VEVENT
DTSTART;TZID=Europe/Berlin:20250928T080000
DTEND;TZID=Europe/Berlin:20250928T200000
DTSTAMP:20260423T162114
CREATED:20250825T130504Z
LAST-MODIFIED:20250825T130506Z
UID:6433-1759046400-1759089600@svwalbeck.de
SUMMARY:Vereinsbus Damen (1/2)
DESCRIPTION:Auswärtsspiel
URL:https://svwalbeck.de/event/vereinsbus-damen-1-2-2/
END:VEVENT
BEGIN:VEVENT
DTSTART;TZID=Europe/Berlin:20250930T160000
DTEND;TZID=Europe/Berlin:20250930T210000
DTSTAMP:20260423T162114
CREATED:20250923T185711Z
LAST-MODIFIED:20250923T185712Z
UID:6530-1759248000-1759266000@svwalbeck.de
SUMMARY:Vereinsbus U17-Juniorinnen
DESCRIPTION:Auswärtsspiel in Winnekendonk
URL:https://svwalbeck.de/event/vereinsbus-u17-juniorinnen/
END:VEVENT
END:VCALENDAR