BEGIN:VCALENDAR
VERSION:2.0
PRODID:-//SV 1913 Walbeck - ECPv6.15.20//NONSGML v1.0//EN
CALSCALE:GREGORIAN
METHOD:PUBLISH
X-ORIGINAL-URL:https://svwalbeck.de
X-WR-CALDESC:Veranstaltungen für SV 1913 Walbeck
REFRESH-INTERVAL;VALUE=DURATION:PT1H
X-Robots-Tag:noindex
X-PUBLISHED-TTL:PT1H
BEGIN:VTIMEZONE
TZID:Europe/Berlin
BEGIN:DAYLIGHT
TZOFFSETFROM:+0100
TZOFFSETTO:+0200
TZNAME:CEST
DTSTART:20240331T010000
END:DAYLIGHT
BEGIN:STANDARD
TZOFFSETFROM:+0200
TZOFFSETTO:+0100
TZNAME:CET
DTSTART:20241027T010000
END:STANDARD
BEGIN:DAYLIGHT
TZOFFSETFROM:+0100
TZOFFSETTO:+0200
TZNAME:CEST
DTSTART:20250330T010000
END:DAYLIGHT
BEGIN:STANDARD
TZOFFSETFROM:+0200
TZOFFSETTO:+0100
TZNAME:CET
DTSTART:20251026T010000
END:STANDARD
BEGIN:DAYLIGHT
TZOFFSETFROM:+0100
TZOFFSETTO:+0200
TZNAME:CEST
DTSTART:20260329T010000
END:DAYLIGHT
BEGIN:STANDARD
TZOFFSETFROM:+0200
TZOFFSETTO:+0100
TZNAME:CET
DTSTART:20261025T010000
END:STANDARD
END:VTIMEZONE
BEGIN:VEVENT
DTSTART;TZID=Europe/Berlin:20251102T080000
DTEND;TZID=Europe/Berlin:20251102T200000
DTSTAMP:20260423T133913
CREATED:20250825T130642Z
LAST-MODIFIED:20250825T130643Z
UID:6437-1762070400-1762113600@svwalbeck.de
SUMMARY:Vereinsbus Damen (1/2)
DESCRIPTION:Auswärtsspiel
URL:https://svwalbeck.de/event/vereinsbus-damen-1-2-4/
END:VEVENT
BEGIN:VEVENT
DTSTART;TZID=Europe/Berlin:20251102T140000
DTEND;TZID=Europe/Berlin:20251102T170000
DTSTAMP:20260423T133913
CREATED:20251026T204105Z
LAST-MODIFIED:20251026T204106Z
UID:6578-1762092000-1762102800@svwalbeck.de
SUMMARY:TT-Bezirksranglistenturnier der J15 in Walbeck
DESCRIPTION:
URL:https://svwalbeck.de/event/tt-bezirksranglistenturnier-der-j15-in-walbeck/
END:VEVENT
BEGIN:VEVENT
DTSTART;TZID=Europe/Berlin:20251115T140000
DTEND;TZID=Europe/Berlin:20251115T200000
DTSTAMP:20260423T133913
CREATED:20250902T113604Z
LAST-MODIFIED:20250902T113605Z
UID:6457-1763215200-1763236800@svwalbeck.de
SUMMARY:Vereinsbus B-Junioren
DESCRIPTION:Auswärtsspiel in Bedburg-Hau
URL:https://svwalbeck.de/event/vereinsbus-b-junioren-7/
END:VEVENT
BEGIN:VEVENT
DTSTART;TZID=Europe/Berlin:20251116T080000
DTEND;TZID=Europe/Berlin:20251116T200000
DTSTAMP:20260423T133913
CREATED:20250825T130740Z
LAST-MODIFIED:20250825T130743Z
UID:6439-1763280000-1763323200@svwalbeck.de
SUMMARY:Vereinsbus Damen (1/2)
DESCRIPTION:Auswärtsspiel
URL:https://svwalbeck.de/event/vereinsbus-damen-1-2-5/
END:VEVENT
BEGIN:VEVENT
DTSTART;TZID=Europe/Berlin:20251116T150000
DTEND;TZID=Europe/Berlin:20251116T180000
DTSTAMP:20260423T133913
CREATED:20251102T201541Z
LAST-MODIFIED:20251102T201543Z
UID:6593-1763305200-1763316000@svwalbeck.de
SUMMARY:TT-Bezirksranglistenturnier der J17 in Walbeck
DESCRIPTION:
URL:https://svwalbeck.de/event/tt-bezirksranglistenturnier-der-j17-in-walbeck/
END:VEVENT
BEGIN:VEVENT
DTSTART;TZID=Europe/Berlin:20251129T130000
DTEND;TZID=Europe/Berlin:20251129T200000
DTSTAMP:20260423T133913
CREATED:20251112T133743Z
LAST-MODIFIED:20251112T133745Z
UID:6618-1764421200-1764446400@svwalbeck.de
SUMMARY:Vereinsbus U17 Juniorinnen
DESCRIPTION:Auswärtsspiel in Sonsbeck
URL:https://svwalbeck.de/event/vereinsbus-u17-juniorinnen-3/
END:VEVENT
BEGIN:VEVENT
DTSTART;TZID=Europe/Berlin:20251130T120000
DTEND;TZID=Europe/Berlin:20251130T180000
DTSTAMP:20260423T133913
CREATED:20251031T095330Z
LAST-MODIFIED:20251031T095331Z
UID:6582-1764504000-1764525600@svwalbeck.de
SUMMARY:Vereinsbus 1. Herren
DESCRIPTION:Auswärtsspiel in Uedem
URL:https://svwalbeck.de/event/vereinsbus-1-herren-4/
END:VEVENT
END:VCALENDAR