BEGIN:VCALENDAR
VERSION:2.0
PRODID:-//SV 1913 Walbeck - ECPv6.15.20//NONSGML v1.0//EN
CALSCALE:GREGORIAN
METHOD:PUBLISH
X-ORIGINAL-URL:https://svwalbeck.de
X-WR-CALDESC:Veranstaltungen für SV 1913 Walbeck
REFRESH-INTERVAL;VALUE=DURATION:PT1H
X-Robots-Tag:noindex
X-PUBLISHED-TTL:PT1H
BEGIN:VTIMEZONE
TZID:Europe/Berlin
BEGIN:DAYLIGHT
TZOFFSETFROM:+0100
TZOFFSETTO:+0200
TZNAME:CEST
DTSTART:20250330T010000
END:DAYLIGHT
BEGIN:STANDARD
TZOFFSETFROM:+0200
TZOFFSETTO:+0100
TZNAME:CET
DTSTART:20251026T010000
END:STANDARD
BEGIN:DAYLIGHT
TZOFFSETFROM:+0100
TZOFFSETTO:+0200
TZNAME:CEST
DTSTART:20260329T010000
END:DAYLIGHT
BEGIN:STANDARD
TZOFFSETFROM:+0200
TZOFFSETTO:+0100
TZNAME:CET
DTSTART:20261025T010000
END:STANDARD
BEGIN:DAYLIGHT
TZOFFSETFROM:+0100
TZOFFSETTO:+0200
TZNAME:CEST
DTSTART:20270328T010000
END:DAYLIGHT
BEGIN:STANDARD
TZOFFSETFROM:+0200
TZOFFSETTO:+0100
TZNAME:CET
DTSTART:20271031T010000
END:STANDARD
END:VTIMEZONE
BEGIN:VEVENT
DTSTART;TZID=Europe/Berlin:20260103T133000
DTEND;TZID=Europe/Berlin:20260103T190000
DTSTAMP:20260423T112807
CREATED:20260102T131520Z
LAST-MODIFIED:20260102T131528Z
UID:6671-1767447000-1767466800@svwalbeck.de
SUMMARY:TT-Vereinsmeisterschaften
DESCRIPTION:
URL:https://svwalbeck.de/event/tt-vereinsmeisterschaften-4/
END:VEVENT
BEGIN:VEVENT
DTSTART;TZID=Europe/Berlin:20260110T080000
DTEND;TZID=Europe/Berlin:20260110T230000
DTSTAMP:20260423T112807
CREATED:20260105T080654Z
LAST-MODIFIED:20260105T080656Z
UID:6678-1768032000-1768086000@svwalbeck.de
SUMMARY:Vereinsbus U17-Juniorinnen
DESCRIPTION:Futsal Kreismeisterschaften
URL:https://svwalbeck.de/event/vereinsbus-u17-juniorinnen-4/
END:VEVENT
BEGIN:VEVENT
DTSTART;TZID=Europe/Berlin:20260111T103000
DTEND;TZID=Europe/Berlin:20260111T230000
DTSTAMP:20260423T112807
CREATED:20260105T080548Z
LAST-MODIFIED:20260105T080550Z
UID:6676-1768127400-1768172400@svwalbeck.de
SUMMARY:Vereinsbus Breitensport
DESCRIPTION:Auftritt Rhythm Rush
URL:https://svwalbeck.de/event/vereinsbus-breitensport/
END:VEVENT
BEGIN:VEVENT
DTSTART;TZID=Europe/Berlin:20260124T080000
DTEND;TZID=Europe/Berlin:20260125T110000
DTSTAMP:20260423T112807
CREATED:20260121T064333Z
LAST-MODIFIED:20260121T064335Z
UID:6719-1769241600-1769338800@svwalbeck.de
SUMMARY:Vereinsbus Breitensport
DESCRIPTION:
URL:https://svwalbeck.de/event/vereinsbus-breitensport-2/
END:VEVENT
BEGIN:VEVENT
DTSTART;TZID=Europe/Berlin:20260125T111500
DTEND;TZID=Europe/Berlin:20260125T170000
DTSTAMP:20260423T112807
CREATED:20260121T064832Z
LAST-MODIFIED:20260121T064833Z
UID:6723-1769339700-1769360400@svwalbeck.de
SUMMARY:Vereinsbus B Junioren
DESCRIPTION:Spiel in Veen
URL:https://svwalbeck.de/event/vereinsbus-b-junioren-10/
END:VEVENT
BEGIN:VEVENT
DTSTART;TZID=Europe/Berlin:20260125T150000
DTEND;TZID=Europe/Berlin:20260125T180000
DTSTAMP:20260423T112807
CREATED:20260119T065751Z
LAST-MODIFIED:20260119T065752Z
UID:6710-1769353200-1769364000@svwalbeck.de
SUMMARY:TT-Bezirksranglistenturnier der J13 in Walbeck
DESCRIPTION:
URL:https://svwalbeck.de/event/tt-bezirksranglistenturnier-der-j13-in-walbeck/
END:VEVENT
BEGIN:VEVENT
DTSTART;TZID=Europe/Berlin:20260131T080000
DTEND;TZID=Europe/Berlin:20260131T153000
DTSTAMP:20260423T112807
CREATED:20260127T210107Z
LAST-MODIFIED:20260127T210304Z
UID:6743-1769846400-1769873400@svwalbeck.de
SUMMARY:Vereinsbus B-Jugend
DESCRIPTION:Auswärtsspiel in Süchteln
URL:https://svwalbeck.de/event/vereinsbus-b-jugend-2/
END:VEVENT
END:VCALENDAR