BEGIN:VCALENDAR
VERSION:2.0
PRODID:-//SV 1913 Walbeck - ECPv6.15.20//NONSGML v1.0//EN
CALSCALE:GREGORIAN
METHOD:PUBLISH
X-ORIGINAL-URL:https://svwalbeck.de
X-WR-CALDESC:Veranstaltungen für SV 1913 Walbeck
REFRESH-INTERVAL;VALUE=DURATION:PT1H
X-Robots-Tag:noindex
X-PUBLISHED-TTL:PT1H
BEGIN:VTIMEZONE
TZID:Europe/Berlin
BEGIN:DAYLIGHT
TZOFFSETFROM:+0100
TZOFFSETTO:+0200
TZNAME:CEST
DTSTART:20250330T010000
END:DAYLIGHT
BEGIN:STANDARD
TZOFFSETFROM:+0200
TZOFFSETTO:+0100
TZNAME:CET
DTSTART:20251026T010000
END:STANDARD
BEGIN:DAYLIGHT
TZOFFSETFROM:+0100
TZOFFSETTO:+0200
TZNAME:CEST
DTSTART:20260329T010000
END:DAYLIGHT
BEGIN:STANDARD
TZOFFSETFROM:+0200
TZOFFSETTO:+0100
TZNAME:CET
DTSTART:20261025T010000
END:STANDARD
BEGIN:DAYLIGHT
TZOFFSETFROM:+0100
TZOFFSETTO:+0200
TZNAME:CEST
DTSTART:20270328T010000
END:DAYLIGHT
BEGIN:STANDARD
TZOFFSETFROM:+0200
TZOFFSETTO:+0100
TZNAME:CET
DTSTART:20271031T010000
END:STANDARD
END:VTIMEZONE
BEGIN:VEVENT
DTSTART;TZID=Europe/Berlin:20260201T080000
DTEND;TZID=Europe/Berlin:20260201T220000
DTSTAMP:20260423T100740
CREATED:20260121T064540Z
LAST-MODIFIED:20260121T064542Z
UID:6721-1769932800-1769983200@svwalbeck.de
SUMMARY:Vereinsbus U17 Juniorinnen
DESCRIPTION:Futsal in Langenfeld
URL:https://svwalbeck.de/event/vereinsbus-u17-juniorinnen-5/
END:VEVENT
BEGIN:VEVENT
DTSTART;TZID=Europe/Berlin:20260221T120000
DTEND;TZID=Europe/Berlin:20260221T170000
DTSTAMP:20260423T100740
CREATED:20260218T115448Z
LAST-MODIFIED:20260218T115449Z
UID:6830-1771675200-1771693200@svwalbeck.de
SUMMARY:Vereinsbus C Junioren
DESCRIPTION:
URL:https://svwalbeck.de/event/vereinsbus-c-junioren-5/
END:VEVENT
BEGIN:VEVENT
DTSTART;TZID=Europe/Berlin:20260222T150000
DTEND;TZID=Europe/Berlin:20260222T180000
DTSTAMP:20260423T100740
CREATED:20260205T212448Z
LAST-MODIFIED:20260205T212449Z
UID:6804-1771772400-1771783200@svwalbeck.de
SUMMARY:TT-Bezirksranglistenturnier der J15 in Walbeck
DESCRIPTION:
URL:https://svwalbeck.de/event/tt-bezirksranglistenturnier-der-j15-in-walbeck-2/
END:VEVENT
END:VCALENDAR